BEGIN:VCALENDAR
VERSION:2.0
PRODID:-//Junior Welfare League - ECPv6.15.16.1//NONSGML v1.0//EN
CALSCALE:GREGORIAN
METHOD:PUBLISH
X-ORIGINAL-URL:https://juniorwelfareleague.com
X-WR-CALDESC:Events for Junior Welfare League
REFRESH-INTERVAL;VALUE=DURATION:PT1H
X-Robots-Tag:noindex
X-PUBLISHED-TTL:PT1H
BEGIN:VTIMEZONE
TZID:America/New_York
BEGIN:DAYLIGHT
TZOFFSETFROM:-0500
TZOFFSETTO:-0400
TZNAME:EDT
DTSTART:20250309T070000
END:DAYLIGHT
BEGIN:STANDARD
TZOFFSETFROM:-0400
TZOFFSETTO:-0500
TZNAME:EST
DTSTART:20251102T060000
END:STANDARD
BEGIN:DAYLIGHT
TZOFFSETFROM:-0500
TZOFFSETTO:-0400
TZNAME:EDT
DTSTART:20260308T070000
END:DAYLIGHT
BEGIN:STANDARD
TZOFFSETFROM:-0400
TZOFFSETTO:-0500
TZNAME:EST
DTSTART:20261101T060000
END:STANDARD
BEGIN:DAYLIGHT
TZOFFSETFROM:-0500
TZOFFSETTO:-0400
TZNAME:EDT
DTSTART:20270314T070000
END:DAYLIGHT
BEGIN:STANDARD
TZOFFSETFROM:-0400
TZOFFSETTO:-0500
TZNAME:EST
DTSTART:20271107T060000
END:STANDARD
END:VTIMEZONE
BEGIN:VEVENT
DTSTART;TZID=America/New_York:20260219T183000
DTEND;TZID=America/New_York:20260219T203000
DTSTAMP:20260425T113319
CREATED:20251222T205744Z
LAST-MODIFIED:20251222T205744Z
UID:2361-1771525800-1771533000@juniorwelfareleague.com
SUMMARY:February General Meeting
DESCRIPTION:
URL:https://juniorwelfareleague.com/event/february-general-meeting/
LOCATION:Green Space Plant Co\, 151 E Main St.\, Rock Hill\, 29730\, United States
END:VEVENT
BEGIN:VEVENT
DTSTART;TZID=America/New_York:20260221T100000
DTEND;TZID=America/New_York:20260221T140000
DTSTAMP:20260425T113319
CREATED:20260219T204725Z
LAST-MODIFIED:20260219T204725Z
UID:2391-1771668000-1771682400@juniorwelfareleague.com
SUMMARY:Community Valentine's Packing Party
DESCRIPTION:
URL:https://juniorwelfareleague.com/event/community-valentines-packing-party/
LOCATION:Jaci’s House\, 755 Myrtle Drive\, Rock Hill\, SC\, 29730\, United States
END:VEVENT
BEGIN:VEVENT
DTSTART;TZID=America/New_York:20260226T180000
DTEND;TZID=America/New_York:20260226T190000
DTSTAMP:20260425T113319
CREATED:20260219T203214Z
LAST-MODIFIED:20260219T203214Z
UID:2383-1772128800-1772132400@juniorwelfareleague.com
SUMMARY:Ways & Means Meeting
DESCRIPTION:Reach out to our Director of Finance\, Ashley Jascoviez\, for additional information. This will be a virtual meeting.
URL:https://juniorwelfareleague.com/event/ways-means-meeting/
LOCATION:SC
END:VEVENT
BEGIN:VEVENT
DTSTART;TZID=America/New_York:20260303T180000
DTEND;TZID=America/New_York:20260303T190000
DTSTAMP:20260425T113319
CREATED:20260219T203056Z
LAST-MODIFIED:20260219T203056Z
UID:2380-1772560800-1772564400@juniorwelfareleague.com
SUMMARY:Future Directions Meeting
DESCRIPTION:Reach out to Vice President\, Janelle Miskelly\, for additional information. An email will be sent out once a location has been decided.
URL:https://juniorwelfareleague.com/event/future-directions-meeting/
LOCATION:SC
END:VEVENT
BEGIN:VEVENT
DTSTART;TZID=America/New_York:20260319T183000
DTEND;TZID=America/New_York:20260319T203000
DTSTAMP:20260425T113319
CREATED:20251222T205824Z
LAST-MODIFIED:20260219T202938Z
UID:2363-1773945000-1773952200@juniorwelfareleague.com
SUMMARY:March General Meeting
DESCRIPTION:Please do your best to attend the March meeting. We will be discussing Bylaws Changes\, Executive Slate voting\, as well as next year’s Grant Recipient Selection
URL:https://juniorwelfareleague.com/event/march-general-meeting/
LOCATION:Green Space Plant Co\, 151 E Main St.\, Rock Hill\, 29730\, United States
END:VEVENT
BEGIN:VEVENT
DTSTART;TZID=America/New_York:20260416T183000
DTEND;TZID=America/New_York:20260416T203000
DTSTAMP:20260425T113319
CREATED:20260219T203404Z
LAST-MODIFIED:20260219T203404Z
UID:2385-1776364200-1776371400@juniorwelfareleague.com
SUMMARY:Come-See-Me Parade
DESCRIPTION:In lieu of the April General Meeting\, we will be participating in the Come-See-Me Parade.
URL:https://juniorwelfareleague.com/event/come-see-me-parade/
LOCATION:SC
END:VEVENT
END:VCALENDAR